BEGIN:VCALENDAR
VERSION:2.0
PRODID:-//CiviCRM//NONSGML CiviEvent iCal//EN
X-WR-TIMEZONE:Europe/Luxembourg
METHOD:PUBLISH
BEGIN:VEVENT
UID:CiviCRM_EventID_128_914fac006de61f51d4f1d06ad07d5a89@groupealpin.lu/lb
SUMMARY:FLERA Lead 2020
DESCRIPTION:Championnat Lead FLERA @Coque
CATEGORIES:Escalade - Compétition
CALSCALE:GREGORIAN
DTSTAMP;VALUE=DATE-TIME:20201213T090000
DTSTART;VALUE=DATE-TIME:20201213T090000
DTEND;VALUE=DATE-TIME:20201213T170000
URL:https://groupealpin.lu/lb/civicrm/event/info?reset=1&id=128
END:VEVENT
END:VCALENDAR
